BEGIN:VCALENDAR
VERSION:2.0
PRODID:-//Aurini.de
CALSCALE:GREGORIAN
BEGIN:VEVENT
DTSTART:20261109T180000
DTEND:20261109T210000
LOCATION:Treffpunkt PAN Museum Emmerich
DTSTAMP:20261109T180000
SUMMARY:Stolpersteine leuchten
URL;VALUE=URI:https://prokultur.de
DESCRIPTION:Schüler reinigen die Emmericher Stolpersteine am Holocaust Gedenktag 
UID:20261109T180000-20261109T180000-20261109T210000
END:VEVENT
END:VCALENDAR