BEGIN:VCALENDAR
VERSION:2.0
PRODID:-//Aurini.de
CALSCALE:GREGORIAN
BEGIN:VEVENT
DTSTART:20260517T150000
DTEND:20260517T160000
LOCATION:Museum PAN kunstforum in Emmerich am Rhein
DTSTAMP:20260517T150000
SUMMARY:Öffentliche Führung im Jüdischen Kulturraum an den Kreis Klever KulTourtagen 
URL;VALUE=URI:https://prokultur.de
DESCRIPTION:Jüdische Feste und Gedenktage. 
UID:20260517T150000-20260517T150000-20260517T160000
END:VEVENT
END:VCALENDAR